BEGIN:VCALENDAR
VERSION:2.0
PRODID:-//wp-events-plugin.com//7.2.3.1//EN
TZID:Europe/Paris
X-WR-TIMEZONE:Europe/Paris
BEGIN:VEVENT
UID:1148@alafolie.paris
DTSTART;TZID=Europe/Paris:20260123T000000
DTEND;TZID=Europe/Paris:20260123T000000
DTSTAMP:20260108T142117Z
URL:https://alafolie.paris/events/toyz-sextou-techno-queer-underground-par
 is/
SUMMARY:TOYZ X SEXTOU
DESCRIPTION:TOYZ et SEXTOU réunissent la scène techno queer londonienne e
 t parisienne à À la Folie. Vendredi 23 janvier\, 23h–6h.
ATTACH;FMTTYPE=image/jpeg:https://alafolie.paris/wp-content/uploads/2026/0
 1/Capture-decran-2026-01-08-a-15.16.36.png
CATEGORIES:club
END:VEVENT
BEGIN:VTIMEZONE
TZID:Europe/Paris
X-LIC-LOCATION:Europe/Paris
BEGIN:STANDARD
DTSTART:20251026T020000
TZOFFSETFROM:+0200
TZOFFSETTO:+0100
TZNAME:CET
END:STANDARD
END:VTIMEZONE
END:VCALENDAR