BEGIN:VCALENDAR
VERSION:2.0
PRODID:-//wp-events-plugin.com//7.2.3.1//EN
TZID:Europe/Paris
X-WR-TIMEZONE:Europe/Paris
BEGIN:VEVENT
UID:1150@alafolie.paris
DTSTART;TZID=Europe/Paris:20260124T000000
DTEND;TZID=Europe/Paris:20260124T000000
DTSTAMP:20260108T143259Z
URL:https://alafolie.paris/events/ipseite-x-od-a-la-folie-2/
SUMMARY:IPSEITÉ X OD À LA FOLIE
DESCRIPTION:Ipséité et OD présentent une soirée queer à À la Folie Pa
 ris : DJ sets\, performances drag\, créateur·ices et portraits live. Une
  nuit de singularités partagées.
ATTACH;FMTTYPE=image/jpeg:https://alafolie.paris/wp-content/uploads/2026/0
 1/Capture-decran-2026-01-08-a-15.24.33.png
CATEGORIES:apéro
END:VEVENT
BEGIN:VTIMEZONE
TZID:Europe/Paris
X-LIC-LOCATION:Europe/Paris
BEGIN:STANDARD
DTSTART:20251026T020000
TZOFFSETFROM:+0200
TZOFFSETTO:+0100
TZNAME:CET
END:STANDARD
END:VTIMEZONE
END:VCALENDAR