BEGIN:VCALENDAR
VERSION:2.0
PRODID:-//wp-events-plugin.com//7.2.3.1//EN
TZID:Europe/Paris
X-WR-TIMEZONE:Europe/Paris
BEGIN:VEVENT
UID:886@alafolie.paris
DTSTART;TZID=Europe/Paris:20240417T180000
DTEND;TZID=Europe/Paris:20240417T235500
DTSTAMP:20240329T164600Z
URL:http://alafolie.paris/events/ukchaos/
SUMMARY:UKChaos
DESCRIPTION:6 mois qu’on se tape le temps Londonien sans y gagner ni swag
 \, ni Spice Girls\, ni riddim&#x2614\;&#xfe0f\; &#x2639\;&#xfe0f\;\nHeureu
 sement\, les Toutes &amp\; Chaos débarquent à la folie pour y remédier 
 et t’ont concocté un English (late) Break-fast dont elles\, seules\, on
 t le secret &#x2615\;&#xfe0f\; . Cherry on the top of the pudding\, elles 
 invitent CIAC pour cette tea party sans chichis &#x1f9c1\;&#x1f338\;.\nAu 
 programme : UKG\, Bass\, Break\, tout ça avec leur twist chaotique signat
 ure &#x1f34b\;.\nVenez tôt\, iels envoient la gravy dès 18h &#x1f4a6\;&#
 x1f4a6\;\nAux platines &#x1f373\; :\nMarine Tartine B2B CIAC\nMaggie\nArte
  Flora\nNickie Larsen\nSC : https://soundcloud.com/toutesetchaos\n\n&#x1f5
 25\; Entrée gratuite toute la soirée&#x1f525\;\nArtwork : https://www.in
 stagram.com/seijuakashy/\n&#x1f4c5\; mercredi 17 avril 2024\n&#x1f4cd\;À 
 la Folie La Villette\n&#x231a\;&#xfe0f\;18h – 00h\n__________________\n&
 #x1f687\; ACCÈS\nA la Folie - Folie L2 - Parc de\, 26 Av. Corentin Cariou
 \, 75019 Paris\nMétro: Ligne 7 (Crimée\, 9 min de marche)\nBus: 150\, 54
 \, 60\, 71
ATTACH;FMTTYPE=image/jpeg:http://alafolie.paris/wp-content/uploads/2024/03
 /170424_Facebook_event_UKCHAOS.jpg
CATEGORIES:apéro
END:VEVENT
BEGIN:VTIMEZONE
TZID:Europe/Paris
X-LIC-LOCATION:Europe/Paris
BEGIN:DAYLIGHT
DTSTART:20240331T030000
TZOFFSETFROM:+0100
TZOFFSETTO:+0200
TZNAME:CEST
END:DAYLIGHT
END:VTIMEZONE
END:VCALENDAR