BEGIN:VCALENDAR
VERSION:2.0
PRODID:-//wp-events-plugin.com//7.2.3.1//EN
TZID:Europe/Paris
X-WR-TIMEZONE:Europe/Paris
BEGIN:VEVENT
UID:17@alafolie.paris
DTSTART;TZID=Europe/Paris:20181122T190000
DTEND;TZID=Europe/Paris:20181123T020000
DTSTAMP:20181031T105423Z
URL:http://alafolie.paris/events/happy-thanksgiving-a-la-folie/
SUMMARY:Happy Thanksgiving A la Folie !
DESCRIPTION:Le quatrième jeudi de novembre est synonyme de festivités aux
  Etats-Unis\, avec l’arrivée de Thanksgiving ! Une fête que l’on cé
 lèbre en famille autour de la traditionnelle dinde et du gâteau au potir
 on\, pour partager un moment convivial et se retrouver ensemble avant les 
 festivités de Noël.\n\nParce que cette tradition Made In USA n’est pas
  seulement réservée à nos voisins américains\, A la Folie organise son
  repas spécial Thanksgiving et vous fait découvrir cette fête chaleureu
 se et gourmande\, le temps d’une soirée d’hiver : jeudi 22 novembre 
 à partir de 20h.\n\nAlors let’s go\, on règle sa montre à l’heure a
 méricaine et on révise son anglais\, avec un accent so Yankees !\n\n&#x1
 f414\; Infos Pratiques &#x1f414\;\nMenu spécial : 32€ +loc – sur rés
 ervation -&gt\; 2€ seront reversés à l'association TBA\n\nBuffet de pl
 ats traditionnels de Thanksgiving : soupe de potiron\, muffin au maïs\, d
 inde farcie\, purée de patates douces\, apple pie\, tarte aux noix de pé
 can …\n\n+ Dj-sets A la Folie Family !
ATTACH;FMTTYPE=image/jpeg:http://alafolie.paris/wp-content/uploads/2018/10
 /Happy-Thanksgiving-A-la-Folie.jpg
CATEGORIES:thanksgiving
END:VEVENT
BEGIN:VTIMEZONE
TZID:Europe/Paris
X-LIC-LOCATION:Europe/Paris
BEGIN:STANDARD
DTSTART:20181028T020000
TZOFFSETFROM:+0200
TZOFFSETTO:+0100
TZNAME:CET
END:STANDARD
END:VTIMEZONE
END:VCALENDAR