BEGIN:VCALENDAR
VERSION:2.0
PRODID:-//wp-events-plugin.com//7.2.3.1//EN
TZID:Europe/Paris
X-WR-TIMEZONE:Europe/Paris
BEGIN:VEVENT
UID:484@alafolie.paris
DTSTART;TZID=Europe/Paris:20220715T200000
DTEND;TZID=Europe/Paris:20220715T220000
DTSTAMP:20220711T150529Z
URL:http://alafolie.paris/events/drag-race-viewing-party-hosted-by-minima-
 geste-2/
SUMMARY:Drag Race Viewing Party hosted by Minima Gesté
DESCRIPTION:On sait tou·tes que Minima Gesté aurait du faire partie des c
 oncurrentes de la tant attendue première saison de Drag Race France. Qu
 ’à cela ne tienne ! On regardera les épisodes avec notre grande dame 
 à nous\, dans son château À la folie. Et on attendra même le lendemain
  des mises en ligne\, car le thé est toujours plus chaud le jour d'après
 \n\nEntrée libre\nDébut : 20h\, au premier étage.\n22h : On enchaîne d
 irectement avec Besties\n\nEt comme Minima Gesté est très joueuse\, il y
  a même des shots et des tickets boisson à gagner.\n\nCalendrier prévis
 ionnel des viewing parties :\nDimanche 26/06 - 15h\nVendredi 1er juillet -
  20h\nVendredi 8 juillet - 20h\nVendredi 15 juillet - 20h\nSamedi 23 juill
 et - 20h\nVendredi 29 juillet - 20h\nVendredi 5 août - 20h\nVendredi 12 a
 oût - 20h\n\nÀ la folie\n26 avenue Corentin Cariou\, 75019\, dans le Par
 c de la Villette\nM/T : Corentin Cariou\, Porte de la Villette\nhttp://ala
 folie.paris\nig : @alafolie.paris
ATTACH;FMTTYPE=image/jpeg:http://alafolie.paris/wp-content/uploads/2022/07
 /viewing-party-facebook.jpg
CATEGORIES:viewing party
END:VEVENT
BEGIN:VTIMEZONE
TZID:Europe/Paris
X-LIC-LOCATION:Europe/Paris
BEGIN:DAYLIGHT
DTSTART:20220327T030000
TZOFFSETFROM:+0100
TZOFFSETTO:+0200
TZNAME:CEST
END:DAYLIGHT
END:VTIMEZONE
END:VCALENDAR