BEGIN:VCALENDAR
VERSION:2.0
PRODID:-//wp-events-plugin.com//7.2.3.1//EN
TZID:Europe/Paris
X-WR-TIMEZONE:Europe/Paris
BEGIN:VEVENT
UID:729@alafolie.paris
DTSTART;TZID=Europe/Paris:20230729T200000
DTEND;TZID=Europe/Paris:20230729T220000
DTSTAMP:20230711T144059Z
URL:http://alafolie.paris/events/drag-race-france-viewing-party-hosted-by-
 minima-geste-5/
SUMMARY:Drag Race France Viewing Party hosted by Minima Gesté
DESCRIPTION:Drag Race France revient pour une saison 2 sur nos écrans pour
  notre plus grand bonheur .\n\nQui de mieux que Minima Gesté pour hoster
  nos Viewing Parties au 1er étage ?\n\nOn sait tou·tes d'ailleurs qu'ell
 e aurait du faire partie des casting de cette nouvelle saison. Donc qu’
 à cela ne tienne ! On regardera les épisodes avec notre grande dame à n
 ous\, dans son château À la folie.\n\nEntrée libre\nDébut : 20h\, au p
 remier étage (venez tôt!)\njusqu'à 22h\n\nPuis on enchaîne avec un DJ 
 set 'Besties' avec Vilaine Dufrêne &amp\; DJ Tsygan \n\nCalendrier prév
 isionnel des Viewing Parties :\ndimanche 2 juillet - 15h/17h\nsamedi 8 jui
 llet - 20h/22h\nsamedi 15 juillet - 20h/22h\nsamedi 22 juillet - 20h/22h\n
 samedi 29 juillet - 20h/22h\nsamedi 5 août - 20h/22h\nsamedi 12 août - 2
 0h/22h\nsamedi 19 août - 20h/22h\n\nÀ la folie\n26 avenue Corentin Cario
 u\, 75019\, dans le Parc de la Villette\nM/T : Corentin Cariou\, Porte de 
 la Villette\nhttp://alafolie.paris\nig : @alafolie.paris
ATTACH;FMTTYPE=image/jpeg:http://alafolie.paris/wp-content/uploads/2023/07
 /facebook-drag-race-viewing-party-29_07.png
CATEGORIES:viewing party
END:VEVENT
BEGIN:VTIMEZONE
TZID:Europe/Paris
X-LIC-LOCATION:Europe/Paris
BEGIN:DAYLIGHT
DTSTART:20230326T030000
TZOFFSETFROM:+0100
TZOFFSETTO:+0200
TZNAME:CEST
END:DAYLIGHT
END:VTIMEZONE
END:VCALENDAR