BEGIN:VCALENDAR
VERSION:2.0
PRODID:-//wp-events-plugin.com//7.2.3.1//EN
TZID:Europe/Paris
X-WR-TIMEZONE:Europe/Paris
BEGIN:VEVENT
UID:272@alafolie.paris
DTSTART;TZID=Europe/Paris:20191108T230000
DTEND;TZID=Europe/Paris:20191109T070000
DTSTAMP:20191025T092753Z
URL:http://alafolie.paris/events/beau-mot-plage-invite-desyn-pascy/
SUMMARY:Beau Mot Plage invite Desyn & Pascy
DESCRIPTION:\n\nAprès avoir reçu Andrew James Gustav et Sugar Free avec n
 os frr de Basic Movement\, puis les locaux de l'étape Joren et 192 upload
 s\, nous sommes très heureux de revenir pour la troisième et dernière f
 ois de l'année à la folie paris. \n\nPour cette dernière de l'année\, 
 nous accueillons donc Desyn et Pascy.\n\nNous avions eu le plaisir de déc
 ouvrir Desyn début 2018 lors de son dernier passage sur la capitale\, et 
 l'avons redécouvert à l'Hoppetosse un peu plus tôt cette année. Que di
 re si ce n'est que sa dextérité derrière 3(!) platines n'a pu que nous 
 impressionner\, et que la multitude de disques "never heard before" jouée
 s a fini de nous convaincre de l'inviter\, si besoin en était. Un technic
 ien de génie ainsi qu'un selector merveilleux : tout ce que vous et nous 
 aimons. \n\nNotre rencontre avec Pascy s'est elle aussi faite à notre bie
 n aimée Hoppe. Auteur d'un des plus beaux sets de la dernière Melliflow 
 x Closer\, il traverse les genres avec finesse et élégance. Ses podcasts
  sur Spaced\, Lize Records ou Yay sont particulièrement marquant et remar
 qués. En plus de cela\, il a également signé sur Timeless\, le label d'
 un certain Francesco Del Garda. Voilà qui vous pose un artiste. On est su
 per heureux de l'accueillir pour sa toute première date à Paris ! \n\nUn
 e fois n'est pas coutume\, nous ne jouerons pas sur celle-ci mais laissero
 ns nos invités s'occuper de vous du début à la fin de la fête. Autant 
 vous dire que venir tôt et partir tard n'a jamais été aussi conseillé 
 ! \n\nARTWORK © Jean Ne\n\nPartenaires :\nDure Vie\nPWFM\nBeat à l'air\n
 DICE\n\n▬ Tarifs  :  \nEarly  birds  (limité) : 8€  \nRegular : 10€
 \nSur  place : 12€\n
CATEGORIES:club
END:VEVENT
BEGIN:VTIMEZONE
TZID:Europe/Paris
X-LIC-LOCATION:Europe/Paris
BEGIN:STANDARD
DTSTART:20191027T020000
TZOFFSETFROM:+0200
TZOFFSETTO:+0100
TZNAME:CET
END:STANDARD
END:VTIMEZONE
END:VCALENDAR